BEGIN:VCALENDAR
VERSION:2.0
PRODID:spatie/icalendar-generator
DESCRIPTION:Veranstaltungen von Freiwillige Feuerwehr Rauen
X-WR-CALDESC:Veranstaltungen von Freiwillige Feuerwehr Rauen
REFRESH-INTERVAL;VALUE=DURATION:PT1440M
X-PUBLISHED-TTL:PT1440M
BEGIN:VTIMEZONE
TZID:Etc/GMT-1
BEGIN:STANDARD
DTSTART:20250706T170000Z
TZOFFSETFROM:+0100
TZOFFSETTO:+0100
END:STANDARD
END:VTIMEZONE
BEGIN:VTIMEZONE
TZID:UTC
BEGIN:STANDARD
DTSTART:20250725T080750Z
TZOFFSETFROM:+0000
TZOFFSETTO:+0000
END:STANDARD
END:VTIMEZONE
BEGIN:VEVENT
UID:32-18
DTSTAMP:20260421T080750Z
SUMMARY:Osterfeuer 2026
LOCATION:
ORGANIZER;CN=Freiwillige Feuerwehr Rauen:MAILTO:webmaster@dominikl774.org
DTSTART;TZID=Etc/GMT-1:20260402T170000
DTEND;TZID=Etc/GMT-1:20260402T235900
X-ALT-DESC;FMTTYPE=TEXT/HTML:Am 02. April 2026 ab 17 Uhr laden die Freiwill
 ige Feuerwehr Rauen\, der Feuerwehrverein Rauen e.V.\, die Kita Heidehaus 
 sowie der Förderverein Heidehaus e.V. herzlich zum traditionellen Osterfe
 uer auf dem Gelände der Feuerwehr Rauen ein. Freut euch auf einen gemütl
 ichen Abend für die ganze Familie\, bei dem der Frühling gemeinsam begr
 üßt wird. Das große Osterfeuer&amp;hellip\;
CATEGORIES:Öffentlichkeitsarbeit
URL;VALUE=URI:https://feuerwehr-rauen.de/mc-events/osterfeuer-2026/
METHOD:PUBLISH
END:VEVENT
END:VCALENDAR